BEGIN:VCALENDAR
VERSION:2.0
PRODID:-//Alavattamman, Chitlapakkam, Chennai - ECPv6.8.3//NONSGML v1.0//EN
CALSCALE:GREGORIAN
METHOD:PUBLISH
X-WR-CALNAME:Alavattamman, Chitlapakkam, Chennai
X-ORIGINAL-URL:https://alavattamman.in
X-WR-CALDESC:Events for Alavattamman, Chitlapakkam, Chennai
REFRESH-INTERVAL;VALUE=DURATION:PT1H
X-Robots-Tag:noindex
X-PUBLISHED-TTL:PT1H
BEGIN:VTIMEZONE
TZID:UTC
BEGIN:STANDARD
TZOFFSETFROM:+0000
TZOFFSETTO:+0000
TZNAME:UTC
DTSTART:20240101T000000
END:STANDARD
TZID:Asia/Kolkata
BEGIN:STANDARD
TZOFFSETFROM:+0530
TZOFFSETTO:+0530
TZNAME:IST
DTSTART:20240101T000000
END:STANDARD
END:VTIMEZONE
BEGIN:VEVENT
DTSTART;TZID=UTC:20241210T080000
DTEND;TZID=UTC:20241210T170000
DTSTAMP:20260421T140556
CREATED:20241211T051137Z
LAST-MODIFIED:20250108T111055Z
UID:284-1733817600-1733850000@alavattamman.in
SUMMARY:தாயுமான ஆற்றின் திருவிழா
DESCRIPTION:கோயிலின் கரையில் உள்ள ஆறு தண்ணீர் குளம்\nஇந்த திருவிழா தாயுமான ஆற்றின் புனிதத்தையும்\, அதன் தாராள ஆற்றலைப் போற்றுகிறது. நிகழ்ச்சியில்: \n\nஆறு குளத்தில் நீராடுதல் மற்றும் பரிசுத்தம்\nஆற்றின் இழப்புகள் மீது சிறப்பு பிரார்த்தனை\nதெளிவான தியானம் மற்றும் பரிசுத்த ஊற்றுகள்\nஇந்த நிகழ்ச்சியில்\, ஆற்றின் புனித நீரில் முழுமையான ஆன்மிகக் குணம் வளர்த்துக் கொள்ளுங்கள்.\n\n\n  \n \n\n				\n	Thirupuzhal parayanamThirupuzhal parayanamThirupuzhal parayanamThirupuzhal parayanam\n \nWatch this video on YouTube
URL:https://alavattamman.in/event/%e0%ae%a4%e0%ae%be%e0%ae%af%e0%af%81%e0%ae%ae%e0%ae%be%e0%ae%a9-%e0%ae%86%e0%ae%b1%e0%af%8d%e0%ae%b1%e0%ae%bf%e0%ae%a9%e0%af%8d-%e0%ae%a4%e0%ae%bf%e0%ae%b0%e0%af%81%e0%ae%b5%e0%ae%bf%e0%ae%b4%e0%ae%be/
LOCATION:Alvattamman Temple\, Kasthuri Bai Street\, Chitlapakkam\, Chennai\, Tamil Nadu\, 600064\, India
END:VEVENT
BEGIN:VEVENT
DTSTART;TZID=UTC:20241208T080000
DTEND;TZID=UTC:20241208T170000
DTSTAMP:20260421T140556
CREATED:20241211T045259Z
LAST-MODIFIED:20250108T095853Z
UID:282-1733644800-1733677200@alavattamman.in
SUMMARY:சந்திரவத்ய பூஜை – சந்திரனின் சக்தி வாழ்த்து
DESCRIPTION:இந்த ஒரு புனிதமான இரவு\, சந்திரன் அவருடைய சக்தியை நமக்கு வழங்கும்படி விரும்பிய பரிசுத்த பிரார்த்தனைகளை செய்யும் சிறப்பான பூஜை. பக்தர்கள் தங்கள் ஆசைகள் மற்றும் உளர்ந்த எண்ணங்களை பரிசுத்த நிலா முன் வெளியிட்டு அந்த ஒளியின் அருளைப் பெறலாம்.\n\n				\n	Thirupuzhal parayanamThirupuzhal parayanamThirupuzhal parayanamThirupuzhal parayanam\n\n\n  Watch this video on YouTube
URL:https://alavattamman.in/event/%e0%ae%9a%e0%ae%a8%e0%af%8d%e0%ae%a4%e0%ae%bf%e0%ae%b0%e0%ae%b5%e0%ae%a4%e0%af%8d%e0%ae%af-%e0%ae%aa%e0%af%82%e0%ae%9c%e0%af%88-%e0%ae%9a%e0%ae%a8%e0%af%8d%e0%ae%a4%e0%ae%bf%e0%ae%b0/
LOCATION:Alvattamman Temple\, Kasthuri Bai Street\, Chitlapakkam\, Chennai\, Tamil Nadu\, 600064\, India
END:VEVENT
BEGIN:VEVENT
DTSTART;TZID=Asia/Kolkata:20241206T090000
DTEND;TZID=Asia/Kolkata:20241206T120000
DTSTAMP:20260421T140556
CREATED:20241210T071938Z
LAST-MODIFIED:20250108T095734Z
UID:230-1733475600-1733486400@alavattamman.in
SUMMARY:திருப்பூகழ் பாராயணம்
DESCRIPTION:நமது ஸ்ரீ ஆலவட்ட அம்மன் ஆலயத்தில் திருப்பூகழ் பாராயணம் 6-12-24  9 மணி முதல் நடைபெற்றது அதனை தொடர்ந்து விருந்தும் நடைபெற்றது\nWatch this video on YouTube \n\n				\n	Thirupuzhal parayanamThirupuzhal parayanamThirupuzhal parayanamThirupuzhal parayanam
URL:https://alavattamman.in/event/%e0%ae%a4%e0%ae%bf%e0%ae%b0%e0%af%81%e0%ae%aa%e0%af%8d%e0%ae%aa%e0%af%82%e0%ae%95%e0%ae%b4%e0%af%8d-%e0%ae%aa%e0%ae%be%e0%ae%b0%e0%ae%be%e0%ae%af%e0%ae%a3%e0%ae%ae%e0%af%8d/
LOCATION:Alvattamman Temple\, Kasthuri Bai Street\, Chitlapakkam\, Chennai\, Tamil Nadu\, 600064\, India
CATEGORIES:upcoming events
END:VEVENT
BEGIN:VEVENT
DTSTART;TZID=UTC:20241201T080000
DTEND;TZID=UTC:20241201T170000
DTSTAMP:20260421T140556
CREATED:20241211T042859Z
LAST-MODIFIED:20250108T081415Z
UID:280-1733040000-1733072400@alavattamman.in
SUMMARY:அகோரா புயல் – ஆன்மிகப் பயிற்சி முகாம்
DESCRIPTION:
URL:https://alavattamman.in/event/%e0%ae%85%e0%ae%95%e0%af%8b%e0%ae%b0%e0%ae%be-%e0%ae%aa%e0%af%81%e0%ae%af%e0%ae%b2%e0%af%8d-%e0%ae%86%e0%ae%a9%e0%af%8d%e0%ae%ae%e0%ae%bf%e0%ae%95%e0%ae%aa%e0%af%8d-%e0%ae%aa%e0%ae%af/
LOCATION:Alvattamman Temple\, Kasthuri Bai Street\, Chitlapakkam\, Chennai\, Tamil Nadu\, 600064\, India
END:VEVENT
END:VCALENDAR