BEGIN:VCALENDAR
VERSION:2.0
PRODID:-//Alavattamman, Chitlapakkam, Chennai - ECPv6.8.3//NONSGML v1.0//EN
CALSCALE:GREGORIAN
METHOD:PUBLISH
X-WR-CALNAME:Alavattamman, Chitlapakkam, Chennai
X-ORIGINAL-URL:https://alavattamman.in
X-WR-CALDESC:Events for Alavattamman, Chitlapakkam, Chennai
REFRESH-INTERVAL;VALUE=DURATION:PT1H
X-Robots-Tag:noindex
X-PUBLISHED-TTL:PT1H
BEGIN:VTIMEZONE
TZID:UTC
BEGIN:STANDARD
TZOFFSETFROM:+0000
TZOFFSETTO:+0000
TZNAME:UTC
DTSTART:20240101T000000
END:STANDARD
END:VTIMEZONE
BEGIN:VEVENT
DTSTART;TZID=UTC:20241201T080000
DTEND;TZID=UTC:20241201T170000
DTSTAMP:20260421T130521
CREATED:20241211T042859Z
LAST-MODIFIED:20250108T081415Z
UID:280-1733040000-1733072400@alavattamman.in
SUMMARY:அகோரா புயல் – ஆன்மிகப் பயிற்சி முகாம்
DESCRIPTION:
URL:https://alavattamman.in/event/%e0%ae%85%e0%ae%95%e0%af%8b%e0%ae%b0%e0%ae%be-%e0%ae%aa%e0%af%81%e0%ae%af%e0%ae%b2%e0%af%8d-%e0%ae%86%e0%ae%a9%e0%af%8d%e0%ae%ae%e0%ae%bf%e0%ae%95%e0%ae%aa%e0%af%8d-%e0%ae%aa%e0%ae%af/
LOCATION:Alvattamman Temple\, Kasthuri Bai Street\, Chitlapakkam\, Chennai\, Tamil Nadu\, 600064\, India
END:VEVENT
END:VCALENDAR