BEGIN:VCALENDAR
VERSION:2.0
PRODID:-//Alavattamman, Chitlapakkam, Chennai - ECPv6.8.3//NONSGML v1.0//EN
CALSCALE:GREGORIAN
METHOD:PUBLISH
X-ORIGINAL-URL:https://alavattamman.in
X-WR-CALDESC:Events for Alavattamman, Chitlapakkam, Chennai
REFRESH-INTERVAL;VALUE=DURATION:PT1H
X-Robots-Tag:noindex
X-PUBLISHED-TTL:PT1H
BEGIN:VTIMEZONE
TZID:Asia/Kolkata
BEGIN:STANDARD
TZOFFSETFROM:+0530
TZOFFSETTO:+0530
TZNAME:IST
DTSTART:20240101T000000
END:STANDARD
TZID:UTC
BEGIN:STANDARD
TZOFFSETFROM:+0000
TZOFFSETTO:+0000
TZNAME:UTC
DTSTART:20240101T000000
END:STANDARD
END:VTIMEZONE
BEGIN:VEVENT
DTSTART;TZID=Asia/Kolkata:20241215T080000
DTEND;TZID=Asia/Kolkata:20241215T170000
DTSTAMP:20260421T122944
CREATED:20241211T041153Z
LAST-MODIFIED:20250108T112052Z
UID:272-1734249600-1734282000@alavattamman.in
SUMMARY:விற்பதைத் திருநாள் ஆசீர்வாத திருவிழா
DESCRIPTION:
URL:https://alavattamman.in/event/%e0%ae%b5%e0%ae%bf%e0%ae%b1%e0%af%8d%e0%ae%aa%e0%ae%a4%e0%af%88%e0%ae%a4%e0%af%8d-%e0%ae%a4%e0%ae%bf%e0%ae%b0%e0%af%81%e0%ae%a8%e0%ae%be%e0%ae%b3%e0%af%8d-%e0%ae%86%e0%ae%9a%e0%af%80%e0%ae%b0%e0%af%8d/
LOCATION:Alvattamman Temple\, Kasthuri Bai Street\, Chitlapakkam\, Chennai\, Tamil Nadu\, 600064\, India
END:VEVENT
BEGIN:VEVENT
DTSTART;TZID=UTC:20241218T080000
DTEND;TZID=UTC:20241218T170000
DTSTAMP:20260421T122944
CREATED:20241211T041928Z
LAST-MODIFIED:20250108T112232Z
UID:274-1734508800-1734541200@alavattamman.in
SUMMARY:முழு நிலா தியானம் மற்றும் தன்னிகர்வு
DESCRIPTION:
URL:https://alavattamman.in/event/%e0%ae%ae%e0%af%81%e0%ae%b4%e0%af%81-%e0%ae%a8%e0%ae%bf%e0%ae%b2%e0%ae%be-%e0%ae%a4%e0%ae%bf%e0%ae%af%e0%ae%be%e0%ae%a9%e0%ae%ae%e0%af%8d-%e0%ae%ae%e0%ae%b1%e0%af%8d%e0%ae%b1%e0%af%81%e0%ae%ae/
LOCATION:Alvattamman Temple\, Kasthuri Bai Street\, Chitlapakkam\, Chennai\, Tamil Nadu\, 600064\, India
END:VEVENT
BEGIN:VEVENT
DTSTART;TZID=UTC:20241225T080000
DTEND;TZID=UTC:20241225T170000
DTSTAMP:20260421T122944
CREATED:20241211T042320Z
LAST-MODIFIED:20250108T112333Z
UID:276-1735113600-1735146000@alavattamman.in
SUMMARY:அதிபெரும் தீவிழா
DESCRIPTION:இந்த தீவிழாவில்\, பரிசுத்த மின்னலின் வழியில் நடக்கும் திருவிழா மகிழ்ச்சியான ஒரு வரவேற்பை கொண்டுள்ளது. இதில் உள்ள நிகழ்ச்சிகள்: \n\nதீ விளக்குகள் மற்றும் ஒளி நடைபயணம்\nபரிசுத்த தீ ஆட்டம்\nஆசிர்வாத தீ வழிபாடு\nஇறை இசை கச்சேரி\nஇன்று நாங்கள் ஒரே நேரத்தில் மகிழ்ச்சியும் ஆன்மிக வாழ்வின் இனிமையும் அனுபவிக்க முடியும்.
URL:https://alavattamman.in/event/%e0%ae%85%e0%ae%a4%e0%ae%bf%e0%ae%aa%e0%af%86%e0%ae%b0%e0%af%81%e0%ae%ae%e0%af%8d-%e0%ae%a4%e0%af%80%e0%ae%b5%e0%ae%bf%e0%ae%b4%e0%ae%be/
LOCATION:Alvattamman Temple\, Kasthuri Bai Street\, Chitlapakkam\, Chennai\, Tamil Nadu\, 600064\, India
END:VEVENT
BEGIN:VEVENT
DTSTART;TZID=UTC:20241230T080000
DTEND;TZID=UTC:20241230T170000
DTSTAMP:20260421T122944
CREATED:20241211T042528Z
LAST-MODIFIED:20250108T112442Z
UID:278-1735545600-1735578000@alavattamman.in
SUMMARY:பரிசுத்த ஆறு வழிபாட்டு சடங்கு
DESCRIPTION:கோயில் கிளைவிரும்பும் பகுதி (பஸ் மூலம் பயணம்)\nஇந்த வருடாந்திர உலா\, பரிசுத்த ஆறில் நடைபெறும் வழிபாட்டிற்கு மிகுந்த முக்கியத்துவம் உண்டு. இதில்\, பக்தர்கள் தங்கள் ஆன்மிக அலைவரையைக் கண்டுபிடிக்கவும்\, பரிசுத்த நீரில் மனதை தூய்மையாக்கவும்\, அங்கே பக்தி உணர்வுடன் தங்குவதற்கும் நல்ல வாய்ப்புகளைக் கண்டுபிடிக்க முடியும்.
URL:https://alavattamman.in/event/%e0%ae%aa%e0%ae%b0%e0%ae%bf%e0%ae%9a%e0%af%81%e0%ae%a4%e0%af%8d%e0%ae%a4-%e0%ae%86%e0%ae%b1%e0%af%81-%e0%ae%b5%e0%ae%b4%e0%ae%bf%e0%ae%aa%e0%ae%be%e0%ae%9f%e0%af%8d%e0%ae%9f%e0%af%81-%e0%ae%9a/
LOCATION:Alvattamman Temple\, Kasthuri Bai Street\, Chitlapakkam\, Chennai\, Tamil Nadu\, 600064\, India
END:VEVENT
BEGIN:VEVENT
DTSTART;TZID=UTC:20250101T070000
DTEND;TZID=UTC:20250101T080000
DTSTAMP:20260421T122944
CREATED:20250103T054611Z
LAST-MODIFIED:20250108T112559Z
UID:473-1735714800-1735718400@alavattamman.in
SUMMARY:தனுர் மாசம் பூஜை
DESCRIPTION:தனுர் மாசம் என்பது தமிழ் காலண்டரில் வரும் ஒரு முக்கியமான மாதமாகும்\, இது பொதுவாக டிசம்பர் – ஜனவரி மாதங்களுக்குள் வருகிறது. இந்த மாதத்தில் சிறப்பாக நடைபெறும் பூஜைகளில்\, தனுர் மாசம் பூஜை முக்கியமான ஒரு நிகழ்ச்சியாக அறியப்படுகிறது. இந்த பூஜை\, அதிகபட்சமாக தமிழ் சமய நம்பிக்கைகளுக்கு ஏற்ப\, எருமை மற்றும் அன்னபூரணியான இறைவனை வழிபடுவதற்கான ஒரு வழிபாட்டு மரபாகும். \nபூஜையின் ஆரம்பம் சந்திராஸ்தமம் மற்றும் சூரியோதயத்திற்கு முன்பாக\, வழிபாட்டு இடத்தில் தியானம் செய்து மாலை பரிசுத்தம் செய்யப்படும். துர்க்கா தேவியின்\, சிவன் மற்றும் விஷ்ணுவின் ஆபரணங்களை அணிந்த உற்சவ பூஜையை அனைத்து கிராமங்களிலும் மற்றும் நகரங்களிலும் ஏராளமான மக்கள் நிகழ்த்துகின்றனர். \n\n				\n	\n\n\n    \n\n 	\n 	  	\n 	   		\n 	   			\n      	\n      	  	\n      	  	  	\n      	  	  	\n      	  	    	New year  \n      	  	  	\n      	  	  	\n      	  	  	  	\n      	  	  	\n      	  	\n      	\n    	  \n 	   		\n 	   	\n 	\n	\n\n        \n               \n                \n            \n                \n                    \n                        New year\n                    \n                    \n                        \n                    \n                    \n                        View More
URL:https://alavattamman.in/event/%e0%ae%a4%e0%ae%a9%e0%af%81%e0%ae%b0%e0%af%8d-%e0%ae%ae%e0%ae%be%e0%ae%9a%e0%ae%ae%e0%af%8d-%e0%ae%aa%e0%af%82%e0%ae%9c%e0%af%88/
CATEGORIES:Past Events
END:VEVENT
BEGIN:VEVENT
DTSTART;TZID=UTC:20250102T080000
DTEND;TZID=UTC:20250102T080000
DTSTAMP:20260421T122944
CREATED:20250103T054903Z
LAST-MODIFIED:20250108T112704Z
UID:477-1735804800-1735804800@alavattamman.in
SUMMARY:தனுர் மாசம் பூஜை
DESCRIPTION:தனுர் மாசம் என்பது தமிழ் காலண்டரில் வரும் ஒரு முக்கியமான மாதமாகும்\, இது பொதுவாக டிசம்பர் – ஜனவரி மாதங்களுக்குள் வருகிறது. இந்த மாதத்தில் சிறப்பாக நடைபெறும் பூஜைகளில்\, தனுர் மாசம் பூஜை முக்கியமான ஒரு நிகழ்ச்சியாக அறியப்படுகிறது. இந்த பூஜை\, அதிகபட்சமாக தமிழ் சமய நம்பிக்கைகளுக்கு ஏற்ப\, எருமை மற்றும் அன்னபூரணியான இறைவனை வழிபடுவதற்கான ஒரு வழிபாட்டு மரபாகும். \nபூஜையின் ஆரம்பம் சந்திராஸ்தமம் மற்றும் சூரியோதயத்திற்கு முன்பாக\, வழிபாட்டு இடத்தில் தியானம் செய்து மாலை பரிசுத்தம் செய்யப்படும். துர்க்கா தேவியின்\, சிவன் மற்றும் விஷ்ணுவின் ஆபரணங்களை அணிந்த உற்சவ பூஜையை அனைத்து கிராமங்களிலும் மற்றும் நகரங்களிலும் ஏராளமான மக்கள் நிகழ்த்துகின்றனர்.
URL:https://alavattamman.in/event/%e0%ae%a4%e0%ae%a9%e0%af%81%e0%ae%b0%e0%af%8d-%e0%ae%ae%e0%ae%be%e0%ae%9a%e0%ae%ae%e0%af%8d-%e0%ae%aa%e0%af%82%e0%ae%9c%e0%af%88-2/
END:VEVENT
BEGIN:VEVENT
DTSTART;TZID=UTC:20250103T080000
DTEND;TZID=UTC:20250103T170000
DTSTAMP:20260421T122944
CREATED:20250103T055025Z
LAST-MODIFIED:20250109T063006Z
UID:479-1735891200-1735923600@alavattamman.in
SUMMARY:தனுர் மாசம்
DESCRIPTION:தனுர் மாசம் என்பது தமிழ் காலண்டரில் வரும் ஒரு முக்கியமான மாதமாகும்\, இது பொதுவாக டிசம்பர் – ஜனவரி மாதங்களுக்குள் வருகிறது. இந்த மாதத்தில் சிறப்பாக நடைபெறும் பூஜைகளில்\, தனுர் மாசம் பூஜை முக்கியமான ஒரு நிகழ்ச்சியாக அறியப்படுகிறது. இந்த பூஜை\, அதிகபட்சமாக தமிழ் சமய நம்பிக்கைகளுக்கு ஏற்ப\, எருமை மற்றும் அன்னபூரணியான இறைவனை வழிபடுவதற்கான ஒரு வழிபாட்டு மரபாகும். \nபூஜையின் ஆரம்பம் சந்திராஸ்தமம் மற்றும் சூரியோதயத்திற்கு முன்பாக\, வழிபாட்டு இடத்தில் தியானம் செய்து மாலை பரிசுத்தம் செய்யப்படும். துர்க்கா தேவியின்\, சிவன் மற்றும் விஷ்ணுவின் ஆபரணங்களை அணிந்த உற்சவ பூஜையை அனைத்து கிராமங்களிலும் மற்றும் நகரங்களிலும் ஏராளமான மக்கள் நிகழ்த்துகின்றனர். \nதனுர் மாசம் பூஜையில்\, ஏழு தினங்களில் முழுமையாக வழிபாடுகள் நடைபெறுகின்றன. இதன் போது மகாகவி திருவள்ளுவர் நமோநம: என்கிற துவக்க மந்திரத்துடன் பூஜை நடைபெறுகிறது. பூஜையின் மையத்தில் ரமணியமான பூங்கொத்துகள் மற்றும் திருச்சாமி சிவனின் திருச்சங்கப் புயலில்\, தெய்வீக களஞ்சியங்களை மிகுந்த பக்தி மற்றும் பரிசுத்த ஆவலுடன் வழிபடுவது ஆகும். \nபூஜையின் போது\, தாதி கொடுக்கப்படும் பண்டிகை உணவுகளுக்கு மகிழ்ச்சி ஏற்படும். அந்த உணவுகளில் பின் பொங்கல்\, வெற்றி வாத்தியங்கள் மற்றும் பூரியோகம் அடங்கும். \nஇந்த மாதம்\, பொன்மொழி\, உணவு மற்றும் சமுதாய சேவையின் முக்கியத்துவம் மிகுந்தது.
URL:https://alavattamman.in/event/%e0%ae%a4%e0%ae%a9%e0%af%81%e0%ae%b0%e0%af%8d-%e0%ae%ae%e0%ae%be%e0%ae%9a%e0%ae%ae%e0%af%8d/
END:VEVENT
BEGIN:VEVENT
DTSTART;TZID=UTC:20250113T190000
DTEND;TZID=UTC:20250113T190000
DTSTAMP:20260421T122944
CREATED:20250103T082135Z
LAST-MODIFIED:20250108T080554Z
UID:501-1736794800-1736794800@alavattamman.in
SUMMARY:பௌர்ணமி பூஜை
DESCRIPTION:ஒரு கோயிலின் மடியில்\, மாலை நேரத்தில் பௌர்ணமி பூஜையின் நேரம் நெருங்கியுள்ளது. அந்த நாள் முழுவதும் கோயில் வளாகத்தில் இழந்த நேரத்தில் சூரியன் கரைய வழிகாட்டிக் கொண்டிருந்தது. இருளின் நுணுக்கத்துடன்\, அந்த பரப்பு வானில் மங்கலமான இளஞ்சிவப்பு நிறத்தில் நட்சத்திரங்கள் பிரகாசிக்கத் தொடங்கின. இவ்வளவிலும் தனித்துவமான ஒன்றே\, அதன் நடுவில் பெரும் சந்திரன் பூரணமான அவதாரம் எடுத்து தோன்றியது.
URL:https://alavattamman.in/event/%e0%ae%aa%e0%af%8c%e0%ae%b0%e0%af%8d%e0%ae%a3%e0%ae%ae%e0%ae%bf-%e0%ae%aa%e0%af%82%e0%ae%9c%e0%af%88/
END:VEVENT
BEGIN:VEVENT
DTSTART;TZID=UTC:20250114T090000
DTEND;TZID=UTC:20250114T090000
DTSTAMP:20260421T122944
CREATED:20250103T082424Z
LAST-MODIFIED:20250108T081112Z
UID:503-1736845200-1736845200@alavattamman.in
SUMMARY:பொங்கல் – பூஜை
DESCRIPTION:பொங்கல் என்பது தமிழர் திருநாளாகப் பரவலாக கொண்டாடப்படும் முக்கியமான விழாக்களில் ஒன்று. இது இயற்கை\, இயற்கையின் வளங்கள்\, விவசாயிகள் மற்றும் அவர்களது பணி ஆகியவற்றுக்கு நன்றி சொல்லும் ஒரு நாளாகும். பொதுவாக பங்குபெறும் பூஜை நிகழ்ச்சி இயற்கைக்கு நன்றி சொல்லும் விழாவாக அமைகின்றது.
URL:https://alavattamman.in/event/%e0%ae%aa%e0%af%8a%e0%ae%99%e0%af%8d%e0%ae%95%e0%ae%b2%e0%af%8d-%e0%ae%aa%e0%af%82%e0%ae%9c%e0%af%88/
END:VEVENT
BEGIN:VEVENT
DTSTART;TZID=UTC:20250117T190000
DTEND;TZID=UTC:20250117T190000
DTSTAMP:20260421T122944
CREATED:20250103T082538Z
LAST-MODIFIED:20250108T112957Z
UID:505-1737140400-1737140400@alavattamman.in
SUMMARY:சங்கடஹர சதுர்த்தி
DESCRIPTION:சங்கடஹர சதுர்த்தி என்பது தமிழ் மக்களின் மிகவும் அன்பான பாரம்பரிய திருவிழாக்களில் ஒன்றாகும். இது Lord சங்கடஹர விக்னேஸ்வரரின் பக்தி விழாவாக\, பெரும்பாலும் சனி கிழமைக்குப் பிற்பகுதியில் நடைபெறுகிறது. இந்த நாள்\, பெரும்பாலும் துன்பங்களை அகற்றி மகிழ்ச்சி\, நன்மைகள்\, மற்றும் இறையருள் பெறுவதற்கான காலமாகக் கொண்டாடப்படுகிறது.
URL:https://alavattamman.in/event/%e0%ae%9a%e0%ae%99%e0%af%8d%e0%ae%95%e0%ae%9f%e0%ae%b9%e0%ae%b0-%e0%ae%9a%e0%ae%a4%e0%af%81%e0%ae%b0%e0%af%8d%e0%ae%a4%e0%af%8d%e0%ae%a4%e0%ae%bf/
END:VEVENT
END:VCALENDAR