BEGIN:VCALENDAR
VERSION:2.0
PRODID:-//Alavattamman, Chitlapakkam, Chennai - ECPv6.8.3//NONSGML v1.0//EN
CALSCALE:GREGORIAN
METHOD:PUBLISH
X-ORIGINAL-URL:https://alavattamman.in
X-WR-CALDESC:Events for Alavattamman, Chitlapakkam, Chennai
REFRESH-INTERVAL;VALUE=DURATION:PT1H
X-Robots-Tag:noindex
X-PUBLISHED-TTL:PT1H
BEGIN:VTIMEZONE
TZID:UTC
BEGIN:STANDARD
TZOFFSETFROM:+0000
TZOFFSETTO:+0000
TZNAME:UTC
DTSTART:20250101T000000
END:STANDARD
END:VTIMEZONE
BEGIN:VEVENT
DTSTART;TZID=UTC:20250114T090000
DTEND;TZID=UTC:20250114T090000
DTSTAMP:20260421T084707
CREATED:20250103T082424Z
LAST-MODIFIED:20250108T081112Z
UID:503-1736845200-1736845200@alavattamman.in
SUMMARY:பொங்கல் – பூஜை
DESCRIPTION:பொங்கல் என்பது தமிழர் திருநாளாகப் பரவலாக கொண்டாடப்படும் முக்கியமான விழாக்களில் ஒன்று. இது இயற்கை\, இயற்கையின் வளங்கள்\, விவசாயிகள் மற்றும் அவர்களது பணி ஆகியவற்றுக்கு நன்றி சொல்லும் ஒரு நாளாகும். பொதுவாக பங்குபெறும் பூஜை நிகழ்ச்சி இயற்கைக்கு நன்றி சொல்லும் விழாவாக அமைகின்றது.
URL:https://alavattamman.in/event/%e0%ae%aa%e0%af%8a%e0%ae%99%e0%af%8d%e0%ae%95%e0%ae%b2%e0%af%8d-%e0%ae%aa%e0%af%82%e0%ae%9c%e0%af%88/
END:VEVENT
END:VCALENDAR