BEGIN:VCALENDAR
VERSION:2.0
PRODID:-//Alavattamman, Chitlapakkam, Chennai - ECPv6.8.3//NONSGML v1.0//EN
CALSCALE:GREGORIAN
METHOD:PUBLISH
X-WR-CALNAME:Alavattamman, Chitlapakkam, Chennai
X-ORIGINAL-URL:https://alavattamman.in
X-WR-CALDESC:Events for Alavattamman, Chitlapakkam, Chennai
REFRESH-INTERVAL;VALUE=DURATION:PT1H
X-Robots-Tag:noindex
X-PUBLISHED-TTL:PT1H
BEGIN:VTIMEZONE
TZID:UTC
BEGIN:STANDARD
TZOFFSETFROM:+0000
TZOFFSETTO:+0000
TZNAME:UTC
DTSTART:20250101T000000
END:STANDARD
END:VTIMEZONE
BEGIN:VEVENT
DTSTART;TZID=UTC:20250102T080000
DTEND;TZID=UTC:20250102T080000
DTSTAMP:20260421T084504
CREATED:20250103T054903Z
LAST-MODIFIED:20250108T112704Z
UID:477-1735804800-1735804800@alavattamman.in
SUMMARY:தனுர் மாசம் பூஜை
DESCRIPTION:தனுர் மாசம் என்பது தமிழ் காலண்டரில் வரும் ஒரு முக்கியமான மாதமாகும்\, இது பொதுவாக டிசம்பர் – ஜனவரி மாதங்களுக்குள் வருகிறது. இந்த மாதத்தில் சிறப்பாக நடைபெறும் பூஜைகளில்\, தனுர் மாசம் பூஜை முக்கியமான ஒரு நிகழ்ச்சியாக அறியப்படுகிறது. இந்த பூஜை\, அதிகபட்சமாக தமிழ் சமய நம்பிக்கைகளுக்கு ஏற்ப\, எருமை மற்றும் அன்னபூரணியான இறைவனை வழிபடுவதற்கான ஒரு வழிபாட்டு மரபாகும். \nபூஜையின் ஆரம்பம் சந்திராஸ்தமம் மற்றும் சூரியோதயத்திற்கு முன்பாக\, வழிபாட்டு இடத்தில் தியானம் செய்து மாலை பரிசுத்தம் செய்யப்படும். துர்க்கா தேவியின்\, சிவன் மற்றும் விஷ்ணுவின் ஆபரணங்களை அணிந்த உற்சவ பூஜையை அனைத்து கிராமங்களிலும் மற்றும் நகரங்களிலும் ஏராளமான மக்கள் நிகழ்த்துகின்றனர்.
URL:https://alavattamman.in/event/%e0%ae%a4%e0%ae%a9%e0%af%81%e0%ae%b0%e0%af%8d-%e0%ae%ae%e0%ae%be%e0%ae%9a%e0%ae%ae%e0%af%8d-%e0%ae%aa%e0%af%82%e0%ae%9c%e0%af%88-2/
END:VEVENT
END:VCALENDAR